BEGIN:VCALENDAR
METHOD:PUBLISH
VERSION:2.0
CALSCALE:GREGORIAN
PRODID:-//NONSGML Sandhills Development\, LLC//NONSGML Sugar Calendar Fe
 eds v3.8.2//EN
X-WR-CALNAME:Technical Challenge Appraiser Training
X-WR-CALDESC:Destination Imagination Colorado
X-WR-TIMEZONE:America/Denver
BEGIN:VTIMEZONE
TZID:America/Denver
BEGIN:STANDARD
TZOFFSETFROM:-0600
TZOFFSETTO:-0700
DTSTART:20251102T080000
TZNAME:MST
END:STANDARD
END:VTIMEZONE
BEGIN:VTIMEZONE
TZID:America/Denver
BEGIN:STANDARD
TZOFFSETFROM:-0600
TZOFFSETTO:-0700
DTSTART:20251102T080000
TZNAME:MST
END:STANDARD
END:VTIMEZONE
BEGIN:VEVENT
SUMMARY:Technical Challenge Appraiser Training
DESCRIPTION:Join Zoom Meeting\nhttps://us02web.zoom.us/j/87935661847?pwd
 =Cu6c1rV6fbibx5raKJ9Rk1dH4A7VsH.1\n\nMeeting ID: 879 3566 1847\nPasscode
 : 207883
URL;VALUE=URI:https://www.dicolorado.com/events/technical-challenge-appr
 aiser-training/
UID:urn:uuid:d173be72-8b77-4e14-a73f-24e4af6d7bfa
STATUS:CONFIRMED
ORGANIZER:
DTSTAMP:20260423T084245Z
DTSTART;TZID=America/Denver:20260122T190000
DTEND;TZID=America/Denver:20260122T200000
END:VEVENT
END:VCALENDAR