BEGIN:VCALENDAR
METHOD:PUBLISH
VERSION:2.0
CALSCALE:GREGORIAN
PRODID:-//NONSGML Sandhills Development\, LLC//NONSGML Sugar Calendar Fe
 eds v3.8.2//EN
X-WR-CALNAME:Technical Challenge Team Manager Training - Virtual
X-WR-CALDESC:Destination Imagination Colorado
X-WR-TIMEZONE:America/Denver
BEGIN:VTIMEZONE
TZID:America/Denver
BEGIN:STANDARD
TZOFFSETFROM:-0600
TZOFFSETTO:-0700
DTSTART:20251102T080000
TZNAME:MST
END:STANDARD
END:VTIMEZONE
BEGIN:VTIMEZONE
TZID:America/Denver
BEGIN:STANDARD
TZOFFSETFROM:-0600
TZOFFSETTO:-0700
DTSTART:20251102T080000
TZNAME:MST
END:STANDARD
END:VTIMEZONE
BEGIN:VEVENT
SUMMARY:Technical Challenge Team Manager Training - Virtual
DESCRIPTION:Join Zoom Meeting\nhttps://us02web.zoom.us/j/81419654669?pwd
 =Q3bCXIiuV2XYfmkiJRVldsMi9VuNmf.1\n\nMeeting ID: 814 1965 4669\nPasscode
 : 397549
URL;VALUE=URI:https://www.dicolorado.com/events/tech-team-manager-traini
 ng/
UID:urn:uuid:610b86e1-6ad8-48a3-bbc1-9ac2156405cb
STATUS:CONFIRMED
ORGANIZER:
DTSTAMP:20260423T101804Z
DTSTART;TZID=America/Denver:20251202T190000
DTEND;TZID=America/Denver:20251202T200000
END:VEVENT
END:VCALENDAR