BEGIN:VCALENDAR
METHOD:PUBLISH
VERSION:2.0
CALSCALE:GREGORIAN
PRODID:-//NONSGML Sandhills Development\, LLC//NONSGML Sugar Calendar Fe
 eds v3.8.2//EN
X-WR-CALNAME:Team Manager Training
X-WR-CALDESC:Destination Imagination Colorado
X-WR-TIMEZONE:America/Denver
BEGIN:VTIMEZONE
TZID:America/Denver
BEGIN:DAYLIGHT
TZOFFSETFROM:-0600
TZOFFSETTO:-0600
DTSTART:20250424T060000
TZNAME:MDT
END:DAYLIGHT
END:VTIMEZONE
BEGIN:VTIMEZONE
TZID:America/Denver
BEGIN:DAYLIGHT
TZOFFSETFROM:-0600
TZOFFSETTO:-0600
DTSTART:20250424T060000
TZNAME:MDT
END:DAYLIGHT
END:VTIMEZONE
BEGIN:VEVENT
SUMMARY:Team Manager Training
DESCRIPTION:Join Zoom Meeting https://us02web.zoom.us/j/85247248611?pwd=
 H6qQbZEvYO1IeK7ibEze0OCm5GNKaY.1\n\nMeeting ID: 852 4724 8611\n\nPasscod
 e: 098753
URL;VALUE=URI:https://www.dicolorado.com/events/team-manager-training/
UID:urn:uuid:fee19c19-62b6-496a-a4f4-0e88ad4439d3
STATUS:CONFIRMED
ORGANIZER:
DTSTAMP:20260423T120343Z
DTSTART;TZID=America/Denver:20251023T180000
DTEND;TZID=America/Denver:20251023T190000
END:VEVENT
END:VCALENDAR