BEGIN:VCALENDAR
METHOD:PUBLISH
VERSION:2.0
CALSCALE:GREGORIAN
PRODID:-//NONSGML Sandhills Development\, LLC//NONSGML Sugar Calendar Fe
 eds v3.8.2//EN
X-WR-CALNAME:Team Manager Training
X-WR-CALDESC:Destination Imagination Colorado
X-WR-TIMEZONE:America/Denver
BEGIN:VTIMEZONE
TZID:America/Denver
BEGIN:DAYLIGHT
TZOFFSETFROM:-0600
TZOFFSETTO:-0600
DTSTART:20250429T070000
TZNAME:MDT
END:DAYLIGHT
END:VTIMEZONE
BEGIN:VTIMEZONE
TZID:America/Denver
BEGIN:DAYLIGHT
TZOFFSETFROM:-0600
TZOFFSETTO:-0600
DTSTART:20250429T070000
TZNAME:MDT
END:DAYLIGHT
END:VTIMEZONE
BEGIN:VEVENT
SUMMARY:Team Manager Training
DESCRIPTION:Join Zoom Meeting\n\nhttps://us02web.zoom.us/j/82181721418?p
 wd=fTPl8kvNrwf45GyagyFzFPE0SkvTzi.1\n\nMeeting ID: 821 8172 1418\n\nPass
 code: 464959
URL;VALUE=URI:https://www.dicolorado.com/events/team-manager-training-2/
UID:urn:uuid:fee19c19-62b6-496a-a4f4-0e88ad4439d3
STATUS:CONFIRMED
ORGANIZER:
DTSTAMP:20260423T120434Z
DTSTART;TZID=America/Denver:20251028T190000
DTEND;TZID=America/Denver:20251028T200000
END:VEVENT
END:VCALENDAR