BEGIN:VCALENDAR
METHOD:PUBLISH
VERSION:2.0
CALSCALE:GREGORIAN
PRODID:-//NONSGML Sandhills Development\, LLC//NONSGML Sugar Calendar Fe
 eds v3.8.2//EN
X-WR-CALNAME:Spanish Team Manager Training
X-WR-CALDESC:Destination Imagination Colorado
X-WR-TIMEZONE:America/Denver
BEGIN:VTIMEZONE
TZID:America/Denver
BEGIN:DAYLIGHT
TZOFFSETFROM:-0600
TZOFFSETTO:-0600
DTSTART:20250414T070000
TZNAME:MDT
END:DAYLIGHT
END:VTIMEZONE
BEGIN:VTIMEZONE
TZID:America/Denver
BEGIN:DAYLIGHT
TZOFFSETFROM:-0600
TZOFFSETTO:-0600
DTSTART:20250414T070000
TZNAME:MDT
END:DAYLIGHT
END:VTIMEZONE
BEGIN:VEVENT
SUMMARY:Spanish Team Manager Training
DESCRIPTION:DI Colorado has partnered with DI Guatemala in giving team m
 anager trainings in Spanish.
URL;VALUE=URI:https://www.dicolorado.com/events/spanish-team-manager-tra
 ining-2/
UID:urn:uuid:b6489d8d-dcad-4123-b8ea-f0927ad6ed68
STATUS:CONFIRMED
ORGANIZER:
DTSTAMP:20260423T134527Z
DTSTART;TZID=America/Denver:20251013T190000
DTEND;TZID=America/Denver:20251013T194000
END:VEVENT
END:VCALENDAR