BEGIN:VCALENDAR
METHOD:PUBLISH
VERSION:2.0
CALSCALE:GREGORIAN
PRODID:-//NONSGML Sandhills Development\, LLC//NONSGML Sugar Calendar Fe
 eds v3.8.2//EN
X-WR-CALNAME:South Metro Teams: Team Manager and RCM Meeting
X-WR-CALDESC:Destination Imagination Colorado
X-WR-TIMEZONE:America/Denver
BEGIN:VTIMEZONE
TZID:America/Denver
BEGIN:STANDARD
TZOFFSETFROM:-0600
TZOFFSETTO:-0700
DTSTART:20251102T080000
TZNAME:MST
END:STANDARD
END:VTIMEZONE
BEGIN:VTIMEZONE
TZID:America/Denver
BEGIN:STANDARD
TZOFFSETFROM:-0600
TZOFFSETTO:-0700
DTSTART:20251102T080000
TZNAME:MST
END:STANDARD
END:VTIMEZONE
BEGIN:VEVENT
SUMMARY:South Metro Teams: Team Manager and RCM Meeting
DESCRIPTION:For South Metro Teams only!\n\nTeam Manager and RCM Meeting 
 at Sky Vista Middle School\n\n&nbsp\;
URL;VALUE=URI:https://www.dicolorado.com/events/south-metro-teams-team-m
 anager-and-rcm-meeting/
UID:urn:uuid:709fdd24-0fb9-4a47-9e64-4a6ae8eaa6c5
STATUS:CONFIRMED
ORGANIZER:
DTSTAMP:20260423T084615Z
DTSTART;TZID=America/Denver:20260217T180000
DTEND;TZID=America/Denver:20260217T190000
LOCATION:4500 S. Himalaya St.
END:VEVENT
END:VCALENDAR