BEGIN:VCALENDAR
METHOD:PUBLISH
VERSION:2.0
CALSCALE:GREGORIAN
PRODID:-//NONSGML Sandhills Development\, LLC//NONSGML Sugar Calendar Fe
 eds v3.8.2//EN
X-WR-CALNAME:South Metro Info Night
X-WR-CALDESC:Destination Imagination Colorado
X-WR-TIMEZONE:America/Denver
BEGIN:VTIMEZONE
TZID:America/Denver
BEGIN:STANDARD
TZOFFSETFROM:-0600
TZOFFSETTO:-0700
DTSTART:20251102T080000
TZNAME:MST
END:STANDARD
END:VTIMEZONE
BEGIN:VTIMEZONE
TZID:America/Denver
BEGIN:STANDARD
TZOFFSETFROM:-0600
TZOFFSETTO:-0700
DTSTART:20251102T080000
TZNAME:MST
END:STANDARD
END:VTIMEZONE
BEGIN:VEVENT
SUMMARY:South Metro Info Night
DESCRIPTION:Meeting Room A
URL;VALUE=URI:https://www.dicolorado.com/events/south-metro-info-night/
UID:urn:uuid:01203c6b-059d-48b9-a789-bf1e62baff1d
STATUS:CONFIRMED
ORGANIZER:
DTSTAMP:20260423T120828Z
DTSTART;TZID=America/Denver:20251113T183000
DTEND;TZID=America/Denver:20251113T200000
LOCATION:6739 S Uinta St
END:VEVENT
END:VCALENDAR