BEGIN:VCALENDAR
METHOD:PUBLISH
VERSION:2.0
CALSCALE:GREGORIAN
PRODID:-//NONSGML Sandhills Development\, LLC//NONSGML Sugar Calendar Fe
 eds v3.8.2//EN
X-WR-CALNAME:South Metro IC Day
X-WR-CALDESC:Destination Imagination Colorado
X-WR-TIMEZONE:America/Denver
BEGIN:VTIMEZONE
TZID:America/Denver
BEGIN:STANDARD
TZOFFSETFROM:-0600
TZOFFSETTO:-0700
DTSTART:20251102T080000
TZNAME:MST
END:STANDARD
END:VTIMEZONE
BEGIN:VTIMEZONE
TZID:America/Denver
BEGIN:STANDARD
TZOFFSETFROM:-0600
TZOFFSETTO:-0700
DTSTART:20251102T080000
TZNAME:MST
END:STANDARD
END:VTIMEZONE
BEGIN:VEVENT
SUMMARY:South Metro IC Day
DESCRIPTION:
URL;VALUE=URI:https://www.dicolorado.com/events/south-metro-ic-day/
UID:urn:uuid:10438eb8-609e-4b49-b67d-94671a450a6f
STATUS:CONFIRMED
ORGANIZER:
DTSTAMP:20260423T105212Z
DTSTART;TZID=America/Denver:20260124T083000
DTEND;TZID=America/Denver:20260124T130000
LOCATION:4545 S University Blvd\, Englewood\, CO 80113\, USA
END:VEVENT
END:VCALENDAR