BEGIN:VCALENDAR
METHOD:PUBLISH
VERSION:2.0
CALSCALE:GREGORIAN
PRODID:-//NONSGML Sandhills Development\, LLC//NONSGML Sugar Calendar Fe
 eds v3.8.2//EN
X-WR-CALNAME:Service Learning Challenge Training - Virtual
X-WR-CALDESC:Destination Imagination Colorado
X-WR-TIMEZONE:America/Denver
BEGIN:VTIMEZONE
TZID:America/Denver
BEGIN:STANDARD
TZOFFSETFROM:-0600
TZOFFSETTO:-0700
DTSTART:20251102T080000
TZNAME:MST
END:STANDARD
END:VTIMEZONE
BEGIN:VTIMEZONE
TZID:America/Denver
BEGIN:STANDARD
TZOFFSETFROM:-0600
TZOFFSETTO:-0700
DTSTART:20251102T080000
TZNAME:MST
END:STANDARD
END:VTIMEZONE
BEGIN:VEVENT
SUMMARY:Service Learning Challenge Training - Virtual
DESCRIPTION:
URL;VALUE=URI:https://www.dicolorado.com/events/service-learning-challen
 ge-training/
UID:urn:uuid:a88558c4-c4ad-4eb4-b0d2-39fcddfab180
STATUS:CONFIRMED
ORGANIZER:
DTSTAMP:20260423T102033Z
DTSTART;TZID=America/Denver:20251211T190000
DTEND;TZID=America/Denver:20251211T200000
END:VEVENT
END:VCALENDAR