BEGIN:VCALENDAR
METHOD:PUBLISH
VERSION:2.0
CALSCALE:GREGORIAN
PRODID:-//NONSGML Sandhills Development\, LLC//NONSGML Sugar Calendar Fe
 eds v3.8.2//EN
X-WR-CALNAME:Service Learning Appraiser Training
X-WR-CALDESC:Destination Imagination Colorado
X-WR-TIMEZONE:America/Denver
BEGIN:VTIMEZONE
TZID:America/Denver
BEGIN:STANDARD
TZOFFSETFROM:-0600
TZOFFSETTO:-0700
DTSTART:20251102T080000
TZNAME:MST
END:STANDARD
END:VTIMEZONE
BEGIN:VTIMEZONE
TZID:America/Denver
BEGIN:STANDARD
TZOFFSETFROM:-0600
TZOFFSETTO:-0700
DTSTART:20251102T080000
TZNAME:MST
END:STANDARD
END:VTIMEZONE
BEGIN:VEVENT
SUMMARY:Service Learning Appraiser Training
DESCRIPTION:Join Zoom Meeting https://us02web.zoom.us/j/86567843127?pwd=
 pGFWHfawFRDymoc0URbT8cae7x3iWK.1\n\nMeeting ID: 865 6784 3127\n\nPasscod
 e: 588620
URL;VALUE=URI:https://www.dicolorado.com/events/service-learning-apprais
 er-training/
UID:urn:uuid:1ca3b73c-9996-41e7-83cd-dbf349d23785
STATUS:CONFIRMED
ORGANIZER:
DTSTAMP:20260423T085149Z
DTSTART;TZID=America/Denver:20260210T190000
DTEND;TZID=America/Denver:20260210T200000
END:VEVENT
END:VCALENDAR