BEGIN:VCALENDAR
METHOD:PUBLISH
VERSION:2.0
CALSCALE:GREGORIAN
PRODID:-//NONSGML Sandhills Development\, LLC//NONSGML Sugar Calendar Fe
 eds v3.8.2//EN
X-WR-CALNAME:Senior Scholarship Application Deadline
X-WR-CALDESC:Destination Imagination Colorado
X-WR-TIMEZONE:America/Denver
BEGIN:VTIMEZONE
TZID:America/Denver
BEGIN:STANDARD
TZOFFSETFROM:-0600
TZOFFSETTO:-0700
DTSTART:20251102T080000
TZNAME:MST
END:STANDARD
END:VTIMEZONE
BEGIN:VTIMEZONE
TZID:America/Denver
BEGIN:STANDARD
TZOFFSETFROM:-0600
TZOFFSETTO:-0700
DTSTART:20251102T080000
TZNAME:MST
END:STANDARD
END:VTIMEZONE
BEGIN:VEVENT
SUMMARY:Senior Scholarship Application Deadline
DESCRIPTION:Deadline for submission is March 6\, 2026\, 11:59PM
URL;VALUE=URI:https://www.dicolorado.com/events/senior-scholarship-appli
 cation-deadline/
UID:urn:uuid:1620f44f-ee75-407d-88ce-4b6a19034d82
STATUS:CONFIRMED
ORGANIZER:
DTSTAMP:20260419T125805Z
DTSTART;TZID=America/Denver:20260306T235000
DTEND;TZID=America/Denver:20260306T235500
END:VEVENT
END:VCALENDAR