BEGIN:VCALENDAR
METHOD:PUBLISH
VERSION:2.0
CALSCALE:GREGORIAN
PRODID:-//NONSGML Sandhills Development\, LLC//NONSGML Sugar Calendar Fe
 eds v3.8.2//EN
X-WR-CALNAME:Scientific Challenge Training: Virtual
X-WR-CALDESC:Destination Imagination Colorado
X-WR-TIMEZONE:America/Denver
BEGIN:VTIMEZONE
TZID:America/Denver
BEGIN:STANDARD
TZOFFSETFROM:-0600
TZOFFSETTO:-0700
DTSTART:20251102T080000
TZNAME:MST
END:STANDARD
END:VTIMEZONE
BEGIN:VTIMEZONE
TZID:America/Denver
BEGIN:STANDARD
TZOFFSETFROM:-0600
TZOFFSETTO:-0700
DTSTART:20251102T080000
TZNAME:MST
END:STANDARD
END:VTIMEZONE
BEGIN:VEVENT
SUMMARY:Scientific Challenge Training: Virtual
DESCRIPTION:Join Zoom Meeting https://us02web.zoom.us/j/83047401049?pwd=
 nlKhZDEVwo7pahzzPoGuzTpnaPaCnt.1 Meeting ID: 830 4740 1049 Passcode: 415
 114
URL;VALUE=URI:https://www.dicolorado.com/events/scientific-challenge-tra
 ining-virtual/
UID:urn:uuid:74b0031f-0190-4760-b5ee-84dcb73549b9
STATUS:CONFIRMED
ORGANIZER:
DTSTAMP:20260423T120518Z
DTSTART;TZID=America/Denver:20251120T190000
DTEND;TZID=America/Denver:20251120T200000
END:VEVENT
END:VCALENDAR