BEGIN:VCALENDAR
METHOD:PUBLISH
VERSION:2.0
CALSCALE:GREGORIAN
PRODID:-//NONSGML Sandhills Development\, LLC//NONSGML Sugar Calendar Fe
 eds v3.8.2//EN
X-WR-CALNAME:Scientific Challenge Appraiser Training
X-WR-CALDESC:Destination Imagination Colorado
X-WR-TIMEZONE:America/Denver
BEGIN:VTIMEZONE
TZID:America/Denver
BEGIN:STANDARD
TZOFFSETFROM:-0600
TZOFFSETTO:-0700
DTSTART:20251102T080000
TZNAME:MST
END:STANDARD
END:VTIMEZONE
BEGIN:VTIMEZONE
TZID:America/Denver
BEGIN:STANDARD
TZOFFSETFROM:-0600
TZOFFSETTO:-0700
DTSTART:20251102T080000
TZNAME:MST
END:STANDARD
END:VTIMEZONE
BEGIN:VEVENT
SUMMARY:Scientific Challenge Appraiser Training
DESCRIPTION:Join Zoom Meeting\nhttps://us02web.zoom.us/j/87495862633?pwd
 =EIuaRpMTen8PskjCPnO95sKMpzbk51.1\n\nMeeting ID: 874 9586 2633\nPasscode
 : 357744
URL;VALUE=URI:https://www.dicolorado.com/events/scientific-challenge-app
 raiser-training/
UID:urn:uuid:fd1e0ae5-438d-44c5-9fbf-a0d472c08dee
STATUS:CONFIRMED
ORGANIZER:
DTSTAMP:20260423T085149Z
DTSTART;TZID=America/Denver:20260129T183000
DTEND;TZID=America/Denver:20260129T193000
END:VEVENT
END:VCALENDAR