BEGIN:VCALENDAR
METHOD:PUBLISH
VERSION:2.0
CALSCALE:GREGORIAN
PRODID:-//NONSGML Sandhills Development\, LLC//NONSGML Sugar Calendar Fe
 eds v3.8.2//EN
X-WR-CALNAME:RCM Boot Camp
X-WR-CALDESC:Destination Imagination Colorado
X-WR-TIMEZONE:America/Denver
BEGIN:VTIMEZONE
TZID:America/Denver
BEGIN:STANDARD
TZOFFSETFROM:-0600
TZOFFSETTO:-0700
DTSTART:20251102T080000
TZNAME:MST
END:STANDARD
END:VTIMEZONE
BEGIN:VTIMEZONE
TZID:America/Denver
BEGIN:STANDARD
TZOFFSETFROM:-0600
TZOFFSETTO:-0700
DTSTART:20251102T080000
TZNAME:MST
END:STANDARD
END:VTIMEZONE
BEGIN:VEVENT
SUMMARY:RCM Boot Camp
DESCRIPTION:Are you a new Regional Challenge Master (RCM) or an experien
 ced volunteer wanting to refresh your skills? This training is for you!\
 n\nMeet your fellow Challenge Masters and see the impact you bring to Co
 lorado's youth.\n\nPetroleum Room\, Green Center on Colorado School of M
 ines campus
URL;VALUE=URI:https://www.dicolorado.com/events/rcm-boot-camp/
UID:urn:uuid:8644eb58-7ccc-4bc3-b581-16049e3eeb85
STATUS:CONFIRMED
ORGANIZER:
DTSTAMP:20260423T101855Z
DTSTART;TZID=America/Denver:20260110T080000
DTEND;TZID=America/Denver:20260110T120000
LOCATION:924 16th St\, Golden\, CO 80401-1868
END:VEVENT
END:VCALENDAR