BEGIN:VCALENDAR
METHOD:PUBLISH
VERSION:2.0
CALSCALE:GREGORIAN
PRODID:-//NONSGML Sandhills Development\, LLC//NONSGML Sugar Calendar Fe
 eds v3.8.2//EN
X-WR-CALNAME:NoCo Info Night - Virtual
X-WR-CALDESC:Destination Imagination Colorado
X-WR-TIMEZONE:America/Denver
BEGIN:VTIMEZONE
TZID:America/Denver
BEGIN:DAYLIGHT
TZOFFSETFROM:-0600
TZOFFSETTO:-0600
DTSTART:20250407T063000
TZNAME:MDT
END:DAYLIGHT
END:VTIMEZONE
BEGIN:VTIMEZONE
TZID:America/Denver
BEGIN:DAYLIGHT
TZOFFSETFROM:-0600
TZOFFSETTO:-0600
DTSTART:20250407T063000
TZNAME:MDT
END:DAYLIGHT
END:VTIMEZONE
BEGIN:VEVENT
SUMMARY:NoCo Info Night - Virtual
DESCRIPTION:BVSD proudly supports Destination Imagination—a program wh
 ere students tackle real-world challenges through creativity\, teamwork\
 , and innovation. It’s a blast for kids and a meaningful opportunity f
 or parents to get involved as team managers. If you’re interested in h
 elping students grow through imaginative problem-solving\, come to one o
 f our virtual info nights or contact Scott Dalgleish at scottd442@gmail
 .com. Please register using the link below at least one day in advance.\
 n\n\n\nLearn more at:\n\n 	https://www.bvsd.org/parents-students/academi
 cs/bvsd-sponsored-events/destination-imagination\n 	https://www.dicolora
 do.com/\n\nWe look forward to welcoming both parents and students to exp
 lore BVSD-sponsored Destination Imagination!
URL;VALUE=URI:https://www.dicolorado.com/events/noco-info-night-virtual-
 3/
UID:urn:uuid:1d12c044-b584-4668-a005-7e0e1ae49085
STATUS:CONFIRMED
ORGANIZER:
DTSTAMP:20260423T134358Z
DTSTART;TZID=America/Denver:20251006T183000
DTEND;TZID=America/Denver:20251006T193000
END:VEVENT
END:VCALENDAR