BEGIN:VCALENDAR
METHOD:PUBLISH
VERSION:2.0
CALSCALE:GREGORIAN
PRODID:-//NONSGML Sandhills Development\, LLC//NONSGML Sugar Calendar Fe
 eds v3.8.2//EN
X-WR-CALNAME:NoCo Canyon Information Night: Virtual
X-WR-CALDESC:Destination Imagination Colorado
X-WR-TIMEZONE:America/Denver
BEGIN:VTIMEZONE
TZID:America/Denver
BEGIN:DAYLIGHT
TZOFFSETFROM:-0600
TZOFFSETTO:-0600
DTSTART:20250424T063000
TZNAME:MDT
END:DAYLIGHT
END:VTIMEZONE
BEGIN:VTIMEZONE
TZID:America/Denver
BEGIN:DAYLIGHT
TZOFFSETFROM:-0600
TZOFFSETTO:-0600
DTSTART:20250424T063000
TZNAME:MDT
END:DAYLIGHT
END:VTIMEZONE
BEGIN:VEVENT
SUMMARY:NoCo Canyon Information Night: Virtual
DESCRIPTION:Pre-register one day in advance here: https://zoom.us/meeti
 ng/register/brHL6uLZQIuuGe7CgUsoAg
URL;VALUE=URI:https://www.dicolorado.com/events/noco-canyon-information-
 night-virtual/
UID:urn:uuid:16509d04-9538-4e54-9add-390c1ad6496a
STATUS:CONFIRMED
ORGANIZER:
DTSTAMP:20260423T120525Z
DTSTART;TZID=America/Denver:20251023T183000
DTEND;TZID=America/Denver:20251023T193000
END:VEVENT
END:VCALENDAR