BEGIN:VCALENDAR
METHOD:PUBLISH
VERSION:2.0
CALSCALE:GREGORIAN
PRODID:-//NONSGML Sandhills Development\, LLC//NONSGML Sugar Calendar Fe
 eds v3.8.2//EN
X-WR-CALNAME:NoCo Canyon Information Night: Virtual
X-WR-CALDESC:Destination Imagination Colorado
X-WR-TIMEZONE:America/Denver
BEGIN:VTIMEZONE
TZID:America/Denver
BEGIN:DAYLIGHT
TZOFFSETFROM:-0600
TZOFFSETTO:-0600
DTSTART:20250430T070000
TZNAME:MDT
END:DAYLIGHT
END:VTIMEZONE
BEGIN:VTIMEZONE
TZID:America/Denver
BEGIN:DAYLIGHT
TZOFFSETFROM:-0600
TZOFFSETTO:-0600
DTSTART:20250430T070000
TZNAME:MDT
END:DAYLIGHT
END:VTIMEZONE
BEGIN:VEVENT
SUMMARY:NoCo Canyon Information Night: Virtual
DESCRIPTION:Pre-register one day in advance here: https://zoom.us/meeti
 ng/register/BAtPbw4uSTGYRrEjzPmgsA
URL;VALUE=URI:https://www.dicolorado.com/events/noco-canyon-information-
 night-virtual-2/
UID:urn:uuid:c9ba3aef-077f-4b8c-ac21-3493676c2b2d
STATUS:CONFIRMED
ORGANIZER:
DTSTAMP:20260423T120621Z
DTSTART;TZID=America/Denver:20251029T190000
DTEND;TZID=America/Denver:20251029T200000
END:VEVENT
END:VCALENDAR