BEGIN:VCALENDAR
METHOD:PUBLISH
VERSION:2.0
CALSCALE:GREGORIAN
PRODID:-//NONSGML Sandhills Development\, LLC//NONSGML Sugar Calendar Fe
 eds v3.8.2//EN
X-WR-CALNAME:NoCo Canyon Information Night: In-Person
X-WR-CALDESC:Destination Imagination Colorado
X-WR-TIMEZONE:America/Denver
BEGIN:VTIMEZONE
TZID:America/Denver
BEGIN:DAYLIGHT
TZOFFSETFROM:-0600
TZOFFSETTO:-0600
DTSTART:20250421T050000
TZNAME:MDT
END:DAYLIGHT
END:VTIMEZONE
BEGIN:VTIMEZONE
TZID:America/Denver
BEGIN:DAYLIGHT
TZOFFSETFROM:-0600
TZOFFSETTO:-0600
DTSTART:20250421T050000
TZNAME:MDT
END:DAYLIGHT
END:VTIMEZONE
BEGIN:VEVENT
SUMMARY:NoCo Canyon Information Night: In-Person
DESCRIPTION:English and Spanish
URL;VALUE=URI:https://www.dicolorado.com/events/noco-canyon-information-
 night-in-person/
UID:urn:uuid:3ec4a9f7-a269-4bef-ad04-a0d9be7ae48e
STATUS:CONFIRMED
ORGANIZER:
DTSTAMP:20260423T120837Z
DTSTART;TZID=America/Denver:20251020T170000
DTEND;TZID=America/Denver:20251020T180000
LOCATION:101 E Baseline Rd.
END:VEVENT
END:VCALENDAR