BEGIN:VCALENDAR
METHOD:PUBLISH
VERSION:2.0
CALSCALE:GREGORIAN
PRODID:-//NONSGML Sandhills Development\, LLC//NONSGML Sugar Calendar Fe
 eds v3.8.2//EN
X-WR-CALNAME:NoCo Canyon Information Night: In-Person at Lafayette Libra
 ry
X-WR-CALDESC:Destination Imagination Colorado
X-WR-TIMEZONE:America/Denver
BEGIN:VTIMEZONE
TZID:America/Denver
BEGIN:DAYLIGHT
TZOFFSETFROM:-0600
TZOFFSETTO:-0600
DTSTART:20250423T031500
TZNAME:MDT
END:DAYLIGHT
END:VTIMEZONE
BEGIN:VTIMEZONE
TZID:America/Denver
BEGIN:DAYLIGHT
TZOFFSETFROM:-0600
TZOFFSETTO:-0600
DTSTART:20250423T031500
TZNAME:MDT
END:DAYLIGHT
END:VTIMEZONE
BEGIN:VEVENT
SUMMARY:NoCo Canyon Information Night: In-Person at Lafayette Library
DESCRIPTION:
URL;VALUE=URI:https://www.dicolorado.com/events/noco-canyon-information-
 night-in-person-at-lafayette-library/
UID:urn:uuid:f11ac9cb-d7c9-410c-ade0-2d5cb76c1b07
STATUS:CONFIRMED
ORGANIZER:
DTSTAMP:20260423T120940Z
DTSTART;TZID=America/Denver:20251022T151500
DTEND;TZID=America/Denver:20251022T161500
LOCATION:775 W. Baseline Rd
END:VEVENT
END:VCALENDAR