BEGIN:VCALENDAR
METHOD:PUBLISH
VERSION:2.0
CALSCALE:GREGORIAN
PRODID:-//NONSGML Sandhills Development\, LLC//NONSGML Sugar Calendar Fe
 eds v3.8.2//EN
X-WR-CALNAME:JeffCo IC Day
X-WR-CALDESC:Destination Imagination Colorado
X-WR-TIMEZONE:America/Denver
BEGIN:VTIMEZONE
TZID:America/Denver
BEGIN:STANDARD
TZOFFSETFROM:-0600
TZOFFSETTO:-0700
DTSTART:20251102T080000
TZNAME:MST
END:STANDARD
END:VTIMEZONE
BEGIN:VTIMEZONE
TZID:America/Denver
BEGIN:STANDARD
TZOFFSETFROM:-0600
TZOFFSETTO:-0700
DTSTART:20251102T080000
TZNAME:MST
END:STANDARD
END:VTIMEZONE
BEGIN:VEVENT
SUMMARY:JeffCo IC Day
DESCRIPTION:Volunteers arrive at 8:30 am\n\nTeam check-in from 9 - 9:15 
 am
URL;VALUE=URI:https://www.dicolorado.com/events/jeffco-ic-day-2/
UID:urn:uuid:8845b9fb-78f2-461c-a32c-d09f171561be
STATUS:CONFIRMED
ORGANIZER:
DTSTAMP:20260423T102047Z
DTSTART;TZID=America/Denver:20260124T090000
DTEND;TZID=America/Denver:20260124T120000
LOCATION:1036 El Ranch Rd
END:VEVENT
END:VCALENDAR