BEGIN:VCALENDAR
METHOD:PUBLISH
VERSION:2.0
CALSCALE:GREGORIAN
PRODID:-//NONSGML Sandhills Development\, LLC//NONSGML Sugar Calendar Fe
 eds v3.8.2//EN
X-WR-CALNAME:Instant Challenge Appraiser Training
X-WR-CALDESC:Destination Imagination Colorado
X-WR-TIMEZONE:America/Denver
BEGIN:VTIMEZONE
TZID:America/Denver
BEGIN:STANDARD
TZOFFSETFROM:-0600
TZOFFSETTO:-0700
DTSTART:20251102T080000
TZNAME:MST
END:STANDARD
END:VTIMEZONE
BEGIN:VTIMEZONE
TZID:America/Denver
BEGIN:STANDARD
TZOFFSETFROM:-0600
TZOFFSETTO:-0700
DTSTART:20251102T080000
TZNAME:MST
END:STANDARD
END:VTIMEZONE
BEGIN:VEVENT
SUMMARY:Instant Challenge Appraiser Training
DESCRIPTION:Join Zoom Meeting\nhttps://us02web.zoom.us/j/87534490088?pwd
 =Y1Riahin0VUaveQ80zOt5yPh0rx1bY.1\n\nMeeting ID: 875 3449 0088\nPasscode
 : 167080
URL;VALUE=URI:https://www.dicolorado.com/events/instant-challenge-apprai
 ser-training/
UID:urn:uuid:5916c9f8-55cd-4dee-a9f6-284e102dd548
STATUS:CONFIRMED
ORGANIZER:
DTSTAMP:20260423T084329Z
DTSTART;TZID=America/Denver:20260217T190000
DTEND;TZID=America/Denver:20260217T200000
END:VEVENT
END:VCALENDAR