BEGIN:VCALENDAR
METHOD:PUBLISH
VERSION:2.0
CALSCALE:GREGORIAN
PRODID:-//NONSGML Sandhills Development\, LLC//NONSGML Sugar Calendar Fe
 eds v3.8.2//EN
X-WR-CALNAME:Improvisation Challenge Training - Virtual
X-WR-CALDESC:Destination Imagination Colorado
X-WR-TIMEZONE:America/Denver
BEGIN:VTIMEZONE
TZID:America/Denver
BEGIN:STANDARD
TZOFFSETFROM:-0600
TZOFFSETTO:-0700
DTSTART:20251102T080000
TZNAME:MST
END:STANDARD
END:VTIMEZONE
BEGIN:VTIMEZONE
TZID:America/Denver
BEGIN:STANDARD
TZOFFSETFROM:-0600
TZOFFSETTO:-0700
DTSTART:20251102T080000
TZNAME:MST
END:STANDARD
END:VTIMEZONE
BEGIN:VEVENT
SUMMARY:Improvisation Challenge Training - Virtual
DESCRIPTION:https://us02web.zoom.us/j/89864354831?pwd=KpGkQVanfgrJS7kDVg
 2JVh2aQF37Dq.1\n\nMeeting ID: 898 6435 4831\nPasscode: 097661
URL;VALUE=URI:https://www.dicolorado.com/events/improvisation-challenge-
 training/
UID:urn:uuid:8a20b730-8ab4-47f1-8203-8182a97b3d20
STATUS:CONFIRMED
ORGANIZER:
DTSTAMP:20260419T141635Z
DTSTART;TZID=America/Denver:20251203T190000
DTEND;TZID=America/Denver:20251203T200000
END:VEVENT
END:VCALENDAR