BEGIN:VCALENDAR
METHOD:PUBLISH
VERSION:2.0
CALSCALE:GREGORIAN
PRODID:-//NONSGML Sandhills Development\, LLC//NONSGML Sugar Calendar Fe
 eds v3.8.2//EN
X-WR-CALNAME:Fine Arts Appraiser Training
X-WR-CALDESC:Destination Imagination Colorado
X-WR-TIMEZONE:America/Denver
BEGIN:VTIMEZONE
TZID:America/Denver
BEGIN:STANDARD
TZOFFSETFROM:-0600
TZOFFSETTO:-0700
DTSTART:20251102T080000
TZNAME:MST
END:STANDARD
END:VTIMEZONE
BEGIN:VTIMEZONE
TZID:America/Denver
BEGIN:STANDARD
TZOFFSETFROM:-0600
TZOFFSETTO:-0700
DTSTART:20251102T080000
TZNAME:MST
END:STANDARD
END:VTIMEZONE
BEGIN:VEVENT
SUMMARY:Fine Arts Appraiser Training
DESCRIPTION:Join Zoom Meeting\nhttps://us02web.zoom.us/j/87121753312?pwd
 =NAquSHRYiOcCtJzKiIob7aalbFB5gs.1\n\nMeeting ID: 871 2175 3312\nPasscode
 : 902231
URL;VALUE=URI:https://www.dicolorado.com/events/fine-arts-appraiser-trai
 ning/
UID:urn:uuid:65ebecbe-bf7f-4a14-a29b-902074758c45
STATUS:CONFIRMED
ORGANIZER:
DTSTAMP:20260423T102136Z
DTSTART;TZID=America/Denver:20260126T190000
DTEND;TZID=America/Denver:20260126T200000
END:VEVENT
END:VCALENDAR