BEGIN:VCALENDAR
METHOD:PUBLISH
VERSION:2.0
CALSCALE:GREGORIAN
PRODID:-//NONSGML Sandhills Development\, LLC//NONSGML Sugar Calendar Fe
 eds v3.8.2//EN
X-WR-CALNAME:Disks for DI
X-WR-CALDESC:Destination Imagination Colorado
X-WR-TIMEZONE:America/Denver
BEGIN:VTIMEZONE
TZID:America/Denver
BEGIN:DAYLIGHT
TZOFFSETFROM:-0600
TZOFFSETTO:-0600
DTSTART:20250403T010000
TZNAME:MDT
END:DAYLIGHT
END:VTIMEZONE
BEGIN:VTIMEZONE
TZID:America/Denver
BEGIN:DAYLIGHT
TZOFFSETFROM:-0600
TZOFFSETTO:-0600
DTSTART:20250403T010000
TZNAME:MDT
END:DAYLIGHT
END:VTIMEZONE
BEGIN:VEVENT
SUMMARY:Disks for DI
DESCRIPTION:
URL;VALUE=URI:https://www.dicolorado.com/events/disks-for-di/
UID:urn:uuid:a22eb546-3eb8-4909-b3b7-a6597350d7fa
STATUS:CONFIRMED
ORGANIZER:
DTSTAMP:20260423T134517Z
DTSTART;TZID=America/Denver:20251002T130000
DTEND;TZID=America/Denver:20251002T150000
END:VEVENT
END:VCALENDAR