BEGIN:VCALENDAR
METHOD:PUBLISH
VERSION:2.0
CALSCALE:GREGORIAN
PRODID:-//NONSGML Sandhills Development\, LLC//NONSGML Sugar Calendar Fe
 eds v3.8.2//EN
X-WR-CALNAME:Science Night at Pace Center
X-WR-CALDESC:Destination Imagination Colorado
X-WR-TIMEZONE:America/Denver
BEGIN:VTIMEZONE
TZID:America/Denver
BEGIN:STANDARD
TZOFFSETFROM:-0600
TZOFFSETTO:-0700
DTSTART:20251102T080000
TZNAME:MST
END:STANDARD
END:VTIMEZONE
BEGIN:VTIMEZONE
TZID:America/Denver
BEGIN:STANDARD
TZOFFSETFROM:-0600
TZOFFSETTO:-0700
DTSTART:20251102T080000
TZNAME:MST
END:STANDARD
END:VTIMEZONE
BEGIN:VEVENT
SUMMARY:Science Night at Pace Center
DESCRIPTION:Science Night brings together local scientists\, educators\,
  and organizations to share the wonders of science with our community. 
   South Metro DICO will host a booth at this event.
URL;VALUE=URI:https://www.dicolorado.com/events/di-booth-at-science-nigh
 t/
UID:urn:uuid:6f13d8ab-d41e-45af-bcc2-5f81dbb76fc5
STATUS:CONFIRMED
ORGANIZER:
DTSTAMP:20260423T120659Z
DTSTART;TZID=America/Denver:20251109T150000
DTEND;TZID=America/Denver:20251109T180000
LOCATION:20000 Pikes Peak Avenue
END:VEVENT
END:VCALENDAR