BEGIN:VCALENDAR
METHOD:PUBLISH
VERSION:2.0
CALSCALE:GREGORIAN
PRODID:-//NONSGML Sandhills Development\, LLC//NONSGML Sugar Calendar Fe
 eds v3.8.2//EN
X-WR-CALNAME:DI After Dark
X-WR-CALDESC:Destination Imagination Colorado
X-WR-TIMEZONE:America/Denver
BEGIN:VTIMEZONE
TZID:America/Denver
BEGIN:DAYLIGHT
TZOFFSETFROM:-0600
TZOFFSETTO:-0600
DTSTART:20250425T070000
TZNAME:MDT
END:DAYLIGHT
END:VTIMEZONE
BEGIN:VTIMEZONE
TZID:America/Denver
BEGIN:DAYLIGHT
TZOFFSETFROM:-0600
TZOFFSETTO:-0600
DTSTART:20250425T070000
TZNAME:MDT
END:DAYLIGHT
END:VTIMEZONE
BEGIN:VEVENT
SUMMARY:DI After Dark
DESCRIPTION:DI After Dark is for Middle Level (Grades 6-8) only! Registr
 ation must be received by October 22\, 2025. $20 per student participant
 . This event is limited to the first 100 students. You will receive an i
 nvoice after registration.
URL;VALUE=URI:https://www.dicolorado.com/events/di-after-dark/
UID:urn:uuid:700cfebe-ee8b-4c5b-97ad-d689e85d8d41
STATUS:CONFIRMED
ORGANIZER:
DTSTAMP:20260423T120621Z
DTSTART;TZID=America/Denver:20251024T190000
DTEND;TZID=America/Denver:20251024T230000
LOCATION:4441 Salvia St.
END:VEVENT
END:VCALENDAR