BEGIN:VCALENDAR
METHOD:PUBLISH
VERSION:2.0
CALSCALE:GREGORIAN
PRODID:-//NONSGML Sandhills Development\, LLC//NONSGML Sugar Calendar Fe
 eds v3.8.2//EN
X-WR-CALNAME:5280 IC Day
X-WR-CALDESC:Destination Imagination Colorado
X-WR-TIMEZONE:America/Denver
BEGIN:VTIMEZONE
TZID:America/Denver
BEGIN:STANDARD
TZOFFSETFROM:-0600
TZOFFSETTO:-0700
DTSTART:20251102T080000
TZNAME:MST
END:STANDARD
END:VTIMEZONE
BEGIN:VTIMEZONE
TZID:America/Denver
BEGIN:STANDARD
TZOFFSETFROM:-0600
TZOFFSETTO:-0700
DTSTART:20251102T080000
TZNAME:MST
END:STANDARD
END:VTIMEZONE
BEGIN:VEVENT
SUMMARY:5280 IC Day
DESCRIPTION:
URL;VALUE=URI:https://www.dicolorado.com/events/5280-ic-day/
UID:urn:uuid:c126f86b-3670-441a-a230-ce40f4291111
STATUS:CONFIRMED
ORGANIZER:
DTSTAMP:20260423T084407Z
DTSTART;TZID=America/Denver:20260221T083000
DTEND;TZID=America/Denver:20260221T123000
LOCATION:2100 N Akron Way\, Denver\, CO 80238\, USA
END:VEVENT
END:VCALENDAR